BEGIN:VCALENDAR
VERSION:2.0
PRODID:-//eventon.com NONSGML v1.0//EN
CALSCALE:GREGORIAN
METHOD:PUBLISH
BEGIN:VEVENT
UID:69e73db454641
DTSTAMP:20260421T090452Z
DTSTART:20250821T180000Z
DTEND:20250821T190000Z
LOCATION:Group Services - Main Office 225 King William St. Unit 510
SUMMARY:Drop In
DESCRIPTION:Drop in and join your peers in a game of chess\,  billiards\,  
 card games\,  arts and crafts\,  or just come and relax in our Serenity Spa
 ce.\nhttps://hiro.ca/events/drop-in/var/ri-99.l-L1
URL:https://hiro.ca/events/drop-in/var/ri-99.l-L1
END:VEVENT
END:VCALENDAR